BEGIN:VCALENDAR
VERSION:2.0
PRODID:-//wp-events-plugin.com//7.2.3.1//EN
TZID:America/Los_Angeles
X-WR-TIMEZONE:America/Los_Angeles
BEGIN:VEVENT
UID:478@highersidemeetups.com
DTSTART;TZID=America/New_York:20251107T183000
DTEND;TZID=America/New_York:20251107T210000
DTSTAMP:20251009T231703Z
URL:https://highersidemeetups.com/events/tampa-fl-coppertail-brewing-compa
 ny-meetup/
SUMMARY:Tampa Fl\,  Coppertail Brewing Company Meetup
DESCRIPTION:Come talk about what they don't want us talking about at right 
 here in THC GROUND ZERO\, Tampa Florida!
LOCATION:Coppertail Brewing Company\, 2601 East 2nd Ave\, Tampa\, Florida\,
  33605\, Florida\, United States
X-APPLE-STRUCTURED-LOCATION;VALUE=URI;X-ADDRESS=2601 East 2nd Ave\, Tampa\,
  Florida\, 33605\, United States;X-APPLE-RADIUS=100;X-TITLE=Coppertail Bre
 wing Company:geo:0,0
END:VEVENT
BEGIN:VTIMEZONE
TZID:America/New_York
X-LIC-LOCATION:America/New_York
BEGIN:STANDARD
DTSTART:20251102T010000
TZOFFSETFROM:-0400
TZOFFSETTO:-0500
TZNAME:EST
END:STANDARD
END:VTIMEZONE
END:VCALENDAR