BEGIN:VCALENDAR
VERSION:2.0
PRODID:-//wp-events-plugin.com//7.2.3.1//EN
TZID:America/Los_Angeles
X-WR-TIMEZONE:America/Los_Angeles
BEGIN:VEVENT
UID:453@highersidemeetups.com
DTSTART;TZID=America/Los_Angeles:20250728T190000
DTEND;TZID=America/Los_Angeles:20250728T210000
DTSTAMP:20250708T211446Z
URL:https://highersidemeetups.com/events/subterfuge-smash/
SUMMARY:SUBTERFUGE SMASH
DESCRIPTION:Good vibes and all that jazz.\n\nHoping to unite the Brooklyn b
 elievers.\n\nChalk it up. Meld with the minds that meander.\n\nLets find s
 ome the music in the chaos.\n\nShare a story\, wisdom or theory of your ow
 n.\n\nYour point of view deserves a worthy ear.\n\nSerenity now people.
LOCATION:Cafe Ornithology\, 1037 Broadway \, Brooklyn\, New York\, 11221\, 
 New York\, United States
X-APPLE-STRUCTURED-LOCATION;VALUE=URI;X-ADDRESS=1037 Broadway \, Brooklyn\,
  New York\, 11221\, United States;X-APPLE-RADIUS=100;X-TITLE=Cafe Ornithol
 ogy:geo:0,0
END:VEVENT
BEGIN:VTIMEZONE
TZID:America/Los_Angeles
X-LIC-LOCATION:America/Los_Angeles
BEGIN:DAYLIGHT
DTSTART:20250309T030000
TZOFFSETFROM:-0800
TZOFFSETTO:-0700
TZNAME:PDT
END:DAYLIGHT
END:VTIMEZONE
END:VCALENDAR