BEGIN:VCALENDAR
VERSION:2.0
PRODID:-//wp-events-plugin.com//7.2.3.1//EN
TZID:America/Los_Angeles
X-WR-TIMEZONE:America/Los_Angeles
BEGIN:VEVENT
UID:372@highersidemeetups.com
DTSTART;TZID=America/Los_Angeles:20240811T140000
DTEND;TZID=America/Los_Angeles:20240811T161500
DTSTAMP:20240804T213326Z
URL:https://highersidemeetups.com/events/soni-from-caemf-speaks-about-thei
 r-win-against-lausd-against-their-vax-mandates/
SUMMARY:Soni from CAEMF speaks about their win against LAUSD against their 
 vax mandates
DESCRIPTION:Soni from CAEMF speaks about their win against LAUSD against th
 eir vax mandates\n\nFighting for health freedom is another crucial element
  of his anti-imperialist stance.  The COVID vaccine mandates pushed him o
 ut of his job and he has been advocating for health freedom ever since.  
 As a co-founder of California Educators for Medical Freedom he is directly
  involved in holding public officials and his union accountable for coerci
 ng Americans to choose between their livelihoods and an experiential chemi
 cal injections. Today he will speak about the ongoing battle against LAUSD
 's vaccine mandate.\n\n&nbsp\;\n\nLook for sign that says Peoples Rights o
 n tables northwest of the park: https://185.191.124.118/\n\nWe have speake
 rs almost every Sunday at 2 PM.\n\nVictory Park\n2575 Paloma St\, Pasadena
 \, CA 91107
LOCATION:Victory Park\, 2575 Paloma St\, Pasadena\, CA\, 91107\, CA\, Unite
 d States
GEO:34.159402;-118.097351
X-APPLE-STRUCTURED-LOCATION;VALUE=URI;X-ADDRESS=2575 Paloma St\, Pasadena\,
  CA\, 91107\, United States;X-APPLE-RADIUS=100;X-TITLE=Victory Park:geo:34
 .159402,-118.097351
END:VEVENT
BEGIN:VTIMEZONE
TZID:America/Los_Angeles
X-LIC-LOCATION:America/Los_Angeles
BEGIN:DAYLIGHT
DTSTART:20240310T030000
TZOFFSETFROM:-0800
TZOFFSETTO:-0700
TZNAME:PDT
END:DAYLIGHT
END:VTIMEZONE
END:VCALENDAR