BEGIN:VCALENDAR
VERSION:2.0
PRODID:-//wp-events-plugin.com//7.2.3.1//EN
TZID:America/Los_Angeles
X-WR-TIMEZONE:America/Los_Angeles
BEGIN:VEVENT
UID:175@highersidemeetups.com
DTSTART;TZID=America/Los_Angeles:20230101T000000
DTEND;TZID=America/Los_Angeles:20230101T000000
DTSTAMP:20221221T212830Z
URL:https://highersidemeetups.com/events/seattle-area-cold-plunge-and-lunc
 h/
SUMMARY:Seattle area cold plunge and lunch
DESCRIPTION:Hi everyone! I am looking to connect with some Seattle area THC
  friends! I live in Monroe\, WA and work in Redmond\, WA. I wanted to see 
 if anybody would be interested in joining me for a New Years day cold plun
 ge into Lake Washington followed by some lunch/drinks/joints nearby! Feel 
 free to join for just lunch\, just a plunge or both! I will be there at 12
 :00pm with plans to jump in around 12:15 so everyone has time to show up. 
 I have long red hair and a red beard\, I'll be in a brown and blue hat\, b
 rown jacket and green pants so hopefully easy to spot. If anybody is unabl
 e to make it but would still like to connect feel free to email me at 7dan
 ielmurphy@gmail.com. Hope to meet you all soon!
LOCATION:Houghton Beach Park\, 5811 Lake Washington Blvd NE\, Kirkland\, WA
 \, 98033\, WA\, United States
GEO:47.660331;-122.207001
X-APPLE-STRUCTURED-LOCATION;VALUE=URI;X-ADDRESS=5811 Lake Washington Blvd N
 E\, Kirkland\, WA\, 98033\, United States;X-APPLE-RADIUS=100;X-TITLE=Hough
 ton Beach Park:geo:47.660331,-122.207001
END:VEVENT
BEGIN:VTIMEZONE
TZID:America/Los_Angeles
X-LIC-LOCATION:America/Los_Angeles
BEGIN:STANDARD
DTSTART:20221106T010000
TZOFFSETFROM:-0700
TZOFFSETTO:-0800
TZNAME:PST
END:STANDARD
END:VTIMEZONE
END:VCALENDAR