BEGIN:VCALENDAR
VERSION:2.0
PRODID:-//wp-events-plugin.com//7.2.3.1//EN
TZID:America/Los_Angeles
X-WR-TIMEZONE:America/Los_Angeles
BEGIN:VEVENT
UID:499@highersidemeetups.com
DTSTART;TZID=America/New_York:20260206T190000
DTEND;TZID=America/New_York:20260206T200000
DTSTAMP:20251223T150442Z
URL:https://highersidemeetups.com/events/qortal-virtual-meetup-2/
SUMMARY:QORTAL VIRTUAL MEETUP
DESCRIPTION:Qortal is the digital infrastructure for a free world.It is a d
 ecentralized\, censorship-resistant ecosystem designed to empower individu
 als rather than corporations.\nQortal removes gatekeepers from communicati
 on\, publishing\, and collaboration by combining blockchain technology\, d
 ecentralized web hosting\, encrypted messaging\, and community based file 
 sharing into a single platform.\nWhether you’re interested in liberty\, 
 privacy\, human rights\, open technology\, crypto\, or helping build a mor
 e resilient and user-owned internet\,\nthere is a place for you on Qortal 
 — and a group for nearly every interest.\nIf you cannot find your people
  here\, start a group and create your tribe.
LOCATION:https://qortal.link/WEBSITE/7R15M3G157U5
END:VEVENT
BEGIN:VTIMEZONE
TZID:America/New_York
X-LIC-LOCATION:America/New_York
BEGIN:STANDARD
DTSTART:20251102T010000
TZOFFSETFROM:-0400
TZOFFSETTO:-0500
TZNAME:EST
END:STANDARD
END:VTIMEZONE
END:VCALENDAR