BEGIN:VCALENDAR
VERSION:2.0
PRODID:-//wp-events-plugin.com//7.2.3.1//EN
TZID:America/Los_Angeles
X-WR-TIMEZONE:America/Los_Angeles
BEGIN:VEVENT
UID:322@highersidemeetups.com
DTSTART;TZID=America/Kentucky/Louisville:20240308T173000
DTEND;TZID=America/Kentucky/Louisville:20240308T203000
DTSTAMP:20240205T034159Z
URL:https://highersidemeetups.com/events/portias-cafe-meetup/
SUMMARY:Portia's Cafe Meetup
DESCRIPTION:Hi\, we will be meeting at the Cozy Room next to Portia's Cafe.
  We're going to start with a questionnaire about where everyone is and int
 erests are in the conspiracy/metaphysical/paranormal realm and take it fro
 m there! If  you would like us to email the questionnaire to you please w
 rite to portiascafe@gmail.com and we'll send you one.  (ps\, for those wh
 o know or want to know\, podcaster Mike from Obdmpod.com will be there too
 !!)\n\nOur first meetup--so excited! See you there!
LOCATION:Portia's Cafe\, 4428 Indianola Ave\, Columbus\, OH\, 43214-2226\, 
 OH\, United States
GEO:40.055033;-83.000072
X-APPLE-STRUCTURED-LOCATION;VALUE=URI;X-ADDRESS=4428 Indianola Ave\, Columb
 us\, OH\, 43214-2226\, United States;X-APPLE-RADIUS=100;X-TITLE=Portia's C
 afe:geo:40.055033,-83.000072
END:VEVENT
BEGIN:VTIMEZONE
TZID:America/Kentucky/Louisville
X-LIC-LOCATION:America/Kentucky/Louisville
BEGIN:STANDARD
DTSTART:20231105T010000
TZOFFSETFROM:-0400
TZOFFSETTO:-0500
TZNAME:EST
END:STANDARD
END:VTIMEZONE
END:VCALENDAR