BEGIN:VCALENDAR
VERSION:2.0
PRODID:-//wp-events-plugin.com//7.2.3.1//EN
TZID:America/Los_Angeles
X-WR-TIMEZONE:America/Los_Angeles
BEGIN:VEVENT
UID:291@highersidemeetups.com
DTSTART;TZID=America/Los_Angeles:20231117T190000
DTEND;TZID=America/Los_Angeles:20231117T210000
DTSTAMP:20231028T150526Z
URL:https://highersidemeetups.com/events/oakland-meetup-2/
SUMMARY:Oakland Meetup
DESCRIPTION:Let’s get to know each other and start creating parallel comm
 unities before Lockdown 2.0™️ starts. We’re in CA… We’re going t
 o need it!\n\nI’m hoping we can have some old school convos where we’r
 e learning from instead of getting offended by our differences. No top
 ic is too weird\, no opinion too crazy\, no story too unbelievable… Brin
 g your sense of humor! 🙂\n\nThe venue is a brewery\, but they have Komb
 ucha too…\n\nI'll be close by the entrance wearing a THC logo black t-sh
 irt.\n\nHere's 👇 our Telegram channel in case you need help finding us\
 , etc.\n\n→ https://t.me/+Ar1FnOsb0WsxNDdh\n\nLooking forward to see/mee
 t you all! 🛸 👣
LOCATION:Two Pitchers Brewing\,  2400 WEBSTER STREET\, OAKLAND\, CA\, 94612
 \, CA\, United States
GEO:37.813515;-122.264652
X-APPLE-STRUCTURED-LOCATION;VALUE=URI;X-ADDRESS= 2400 WEBSTER STREET\, OAKL
 AND\, CA\, 94612\, United States;X-APPLE-RADIUS=100;X-TITLE=Two Pitchers B
 rewing:geo:37.813515,-122.264652
END:VEVENT
BEGIN:VTIMEZONE
TZID:America/Los_Angeles
X-LIC-LOCATION:America/Los_Angeles
BEGIN:STANDARD
DTSTART:20231105T010000
TZOFFSETFROM:-0700
TZOFFSETTO:-0800
TZNAME:PST
END:STANDARD
END:VTIMEZONE
END:VCALENDAR