BEGIN:VCALENDAR
VERSION:2.0
PRODID:-//wp-events-plugin.com//7.2.3.1//EN
TZID:America/Los_Angeles
X-WR-TIMEZONE:America/Los_Angeles
BEGIN:VEVENT
UID:521@highersidemeetups.com
DTSTART;TZID=America/Vancouver:20260419T162000
DTEND;TZID=America/Vancouver:20260419T192000
DTSTAMP:20260329T011458Z
URL:https://highersidemeetups.com/events/no-id-pop-up/
SUMMARY:No ID Pop Up
DESCRIPTION:A meeting for open minds from different perspctives. This may i
 nclude No Agenda producers\, Grimericans or other podcast fans\, Freedom G
 roups\, local philosophers and mystics etc. Eat\, drink\, chat\, be merry!
LOCATION:Alibi Room\,  157 Alexander St\, Vancouver V6A 1B8\, Vancouver \, 
 BC Canada\, V6A 1B8\, Gastown\, BC Canada\, Canada
X-APPLE-STRUCTURED-LOCATION;VALUE=URI;X-ADDRESS= 157 Alexander St\, Vancouv
 er V6A 1B8\, Vancouver \, BC Canada\, V6A 1B8\, Gastown\, Canada;X-APPLE-R
 ADIUS=100;X-TITLE=Alibi Room:geo:0,0
END:VEVENT
BEGIN:VTIMEZONE
TZID:America/Vancouver
X-LIC-LOCATION:America/Vancouver
BEGIN:DAYLIGHT
DTSTART:20260308T030000
TZOFFSETFROM:-0800
TZOFFSETTO:-0700
TZNAME:PDT
END:DAYLIGHT
END:VTIMEZONE
END:VCALENDAR