BEGIN:VCALENDAR
VERSION:2.0
PRODID:-//wp-events-plugin.com//7.2.3.1//EN
TZID:America/Los_Angeles
X-WR-TIMEZONE:America/Los_Angeles
BEGIN:VEVENT
UID:82@highersidemeetups.com
DTSTART;TZID=America/Los_Angeles:20220622T180000
DTEND;TZID=America/Los_Angeles:20220622T200000
DTSTAMP:20220607T224732Z
URL:https://highersidemeetups.com/events/milwaukie-metaphysical-society-2/
SUMMARY:Milwaukie Metaphysical Society
DESCRIPTION:Hey THC members of the greater Portland Metro area!\n\nLet’s 
 join forces over pretzels and beer and try to decipher some of the upcomin
 g fuckery we have witnessed during the spring season.\n\nLet’s ring in t
 he new summer and try to make some contacts to start up a recurring conver
 sation.\n\nYou can also contact me @ jamiedrainwater@gmail.com
LOCATION:Beer Store Milwaukie\, 10610 SE Main Ave\, Milwaukie\, OR\, Milwau
 kie\, OR\, United States
GEO:45.446139;-122.641605
X-APPLE-STRUCTURED-LOCATION;VALUE=URI;X-ADDRESS=10610 SE Main Ave\, Milwauk
 ie\, OR\, Milwaukie\, United States;X-APPLE-RADIUS=100;X-TITLE=Beer Store 
 Milwaukie:geo:45.446139,-122.641605
END:VEVENT
BEGIN:VTIMEZONE
TZID:America/Los_Angeles
X-LIC-LOCATION:America/Los_Angeles
BEGIN:DAYLIGHT
DTSTART:20220313T030000
TZOFFSETFROM:-0800
TZOFFSETTO:-0700
TZNAME:PDT
END:DAYLIGHT
END:VTIMEZONE
END:VCALENDAR