BEGIN:VCALENDAR
VERSION:2.0
PRODID:-//wp-events-plugin.com//7.2.3.1//EN
TZID:America/Los_Angeles
X-WR-TIMEZONE:America/Los_Angeles
BEGIN:VEVENT
UID:349@highersidemeetups.com
DTSTART;TZID=America/North_Dakota/Center:20240517T170000
DTEND;TZID=America/North_Dakota/Center:20240518T210000
DTSTAMP:20240517T153117Z
URL:https://highersidemeetups.com/events/live-karaoke-with-the-proxy-party
 /
SUMMARY:Live Karaoke with the Proxy Party!
DESCRIPTION:Any like-minded individuals interested in playing music and tal
 king about political philosophies like the proxy party or the global Dojo 
 of scienceology?\n\nI'm hosting live karaoke with drums and if you play gu
 itar you can even plug in and rock us out Open Mic Style! We will also hav
 e the best burgers in Texas so come hungry!\n\nTotally free Event open to 
 the public\, even kids and dogs.
LOCATION:Random beer garden\, 11 Upper Cibolo Creek Rd\, Boerne\, TX 78006\
 , Boerne\, TX\, 78006\, San Antonio \, TX\, United States
GEO:29.830411;-98.771494
X-APPLE-STRUCTURED-LOCATION;VALUE=URI;X-ADDRESS=11 Upper Cibolo Creek Rd\, 
 Boerne\, TX 78006\, Boerne\, TX\, 78006\, San Antonio \, United States;X-A
 PPLE-RADIUS=100;X-TITLE=Random beer garden:geo:29.830411,-98.771494
END:VEVENT
BEGIN:VTIMEZONE
TZID:America/North_Dakota/Center
X-LIC-LOCATION:America/North_Dakota/Center
BEGIN:DAYLIGHT
DTSTART:20240310T030000
TZOFFSETFROM:-0600
TZOFFSETTO:-0500
TZNAME:CDT
END:DAYLIGHT
END:VTIMEZONE
END:VCALENDAR