BEGIN:VCALENDAR
VERSION:2.0
PRODID:-//wp-events-plugin.com//7.2.3.1//EN
TZID:America/Los_Angeles
X-WR-TIMEZONE:America/Los_Angeles
BEGIN:VEVENT
UID:296@highersidemeetups.com
DTSTART;TZID=America/Los_Angeles:20231207T180000
DTEND;TZID=America/Los_Angeles:20231207T180000
DTSTAMP:20231118T162032Z
URL:https://highersidemeetups.com/events/la-truthers-2/
SUMMARY:LA Truthers
DESCRIPTION:We will be gathering again….you know the deal.   Likeminded\
 , truth seeking souls coming together for insightful conversations.   If 
 you haven’t been\, come join us!
LOCATION:Flame International Restaurant\, 11330 Santa Monica Blvd\, Los Ang
 eles\, CA\, 90025\, West Los Angeles\, CA\, United States
GEO:34.045983;-118.449212
X-APPLE-STRUCTURED-LOCATION;VALUE=URI;X-ADDRESS=11330 Santa Monica Blvd\, L
 os Angeles\, CA\, 90025\, West Los Angeles\, United States;X-APPLE-RADIUS=
 100;X-TITLE=Flame International Restaurant:geo:34.045983,-118.449212
END:VEVENT
BEGIN:VTIMEZONE
TZID:America/Los_Angeles
X-LIC-LOCATION:America/Los_Angeles
BEGIN:STANDARD
DTSTART:20231105T010000
TZOFFSETFROM:-0700
TZOFFSETTO:-0800
TZNAME:PST
END:STANDARD
END:VTIMEZONE
END:VCALENDAR