BEGIN:VCALENDAR
VERSION:2.0
PRODID:-//wp-events-plugin.com//7.2.3.1//EN
TZID:America/Los_Angeles
X-WR-TIMEZONE:America/Los_Angeles
BEGIN:VEVENT
UID:413@highersidemeetups.com
DTSTART;TZID=America/New_York:20250308T120000
DTEND;TZID=America/New_York:20250308T170000
DTSTAMP:20250130T144915Z
URL:https://highersidemeetups.com/events/highersoup-high-springs-fl-event/
SUMMARY:HigherSoup High Springs\, FL Event
DESCRIPTION:Ahoy!\n\nListeners of Rune Soup and THC are invited to attend a
  live talk/hang out with Greg &amp\; Gordon @ High Springs Brewing Co.\n\n
 The event is free to attend and available to non-members who opt for their
  own transportation....HOWEVER Gordon &amp\; Greg are also renting a bus f
 rom Tampa to make the round trip with those who would like to have a sober
  ride and extend the hang out. It's about a 2 hour ride each way.\n\n**RSV
 Ps on this page are to get a rough total for the EVENT ONLY\, not the bus.
 **\n\nBus Info:\n\n-Bus will be picking up in front of the Tampa Theater (
  711 N Franklin St\, Tampa\, FL ) @ 10am  &amp\; will leave the event aro
 und 5pm (Arrival back in front of Tampa theater around 7PM)\n\n-Bus is dri
 nk friendly\, with a restroom on board.\n\n-You cannot control the radio.\
 n\n-A ticket for the round trip bus ride is $74.86. It's just the cost of 
 the bus split up among available seats.\n\n-Tickets are pretty limited\, a
 nd can be purchased here: https://ticketbud.com/events/bf4450b6-de25-11ef-
 9c4f-42010a71703b\n\nCheers!
LOCATION:High Springs Brewing Company\, 18562 NW 237th St\, High Springs\, 
 FL\, 32643\, FL\, United States
GEO:29.826868;-82.598502
X-APPLE-STRUCTURED-LOCATION;VALUE=URI;X-ADDRESS=18562 NW 237th St\, High Sp
 rings\, FL\, 32643\, United States;X-APPLE-RADIUS=100;X-TITLE=High Springs
  Brewing Company:geo:29.826868,-82.598502
END:VEVENT
BEGIN:VTIMEZONE
TZID:America/New_York
X-LIC-LOCATION:America/New_York
BEGIN:STANDARD
DTSTART:20241103T010000
TZOFFSETFROM:-0400
TZOFFSETTO:-0500
TZNAME:EST
END:STANDARD
END:VTIMEZONE
END:VCALENDAR