BEGIN:VCALENDAR
VERSION:2.0
PRODID:-//wp-events-plugin.com//7.2.3.1//EN
TZID:America/Los_Angeles
X-WR-TIMEZONE:America/Los_Angeles
BEGIN:VEVENT
UID:520@highersidemeetups.com
DTSTART;TZID=Pacific/Auckland:20260427T190000
DTEND;TZID=Pacific/Auckland:20260427T210000
DTSTAMP:20260327T151754Z
URL:https://highersidemeetups.com/events/galbraiths-auckland-new-zealand-t
 hc-meetup/
SUMMARY:Galbraiths\, Auckland New Zealand THC Meetup
DESCRIPTION:Come chat with like-minded THC fans in Auckland!\n\nWe’ve boo
 ked a table right at the entrance next to the fireplace &amp\; will have s
 uitable signage on display.\n\nWe'd like to make this a regular 8 week mee
 t up so please RSVP as we'd love to see you there.\n\nLocation: Galbraith
 ’s micro-brewery &amp\; tavern offering house made beers &amp\; classic 
 pub grub in English-inspired digs.
LOCATION:Galbraiths Alehouse\, 2 Mount Eden Road\, Auckland\, New Zealand\,
  1023\, Auckland\, New Zealand\, New Zealand
GEO:-36.86552;174.761287
X-APPLE-STRUCTURED-LOCATION;VALUE=URI;X-ADDRESS=2 Mount Eden Road\, Aucklan
 d\, New Zealand\, 1023\, Auckland\, New Zealand;X-APPLE-RADIUS=100;X-TITLE
 =Galbraiths Alehouse:geo:-36.86552,174.761287
END:VEVENT
BEGIN:VTIMEZONE
TZID:Pacific/Auckland
X-LIC-LOCATION:Pacific/Auckland
BEGIN:STANDARD
DTSTART:20260405T020000
TZOFFSETFROM:+1300
TZOFFSETTO:+1200
TZNAME:NZST
END:STANDARD
END:VTIMEZONE
END:VCALENDAR